BEGIN:VCALENDAR
VERSION:2.0
PRODID:-//wp-events-plugin.com//6.6.4.4//EN
BEGIN:VEVENT
UID:123@burnleywordsfestival.co.uk
DTSTART;TZID=Europe/London:20250518T120000
DTEND;TZID=Europe/London:20250615T160000
DTSTAMP:20250425T123755Z
URL:https://burnleywordsfestival.co.uk/events/agree-disagree-exhibition/
SUMMARY:Agree // Disagree Exhibition
DESCRIPTION:\nAgree // Disagree - Words and images\, statements and provoca
 tions for a better now.\nWHAT\nA group show of contemporary art\, commissi
 oned especially for Creative Spaces Burnley’s inaugural exhibition at On
 eTwoThree.\n\n\n\nABOUT\nTaking inspiration from the rich history of banne
 rs and manifestos\, Agree // Disagree is a response to the power of 'the s
 tatement' both big and small.\nWhether political\, ambitious\, public or p
 rivate assertions\, scribbled down commitments\, there is real power and e
 nergy for challenging a status quo when declarations of intent are express
 ed and made visible.\nAs well as a call to action\, the exhibition is also
  a call to explore ideas\, engage with differences and connections. Agree 
 // Disagree is an invitation to find some of the common ground and threads
  that bind us and to stimulate the conversations that grow and change us.\
 n“A manifesto is not a statement of what is\, but a howl of what must be
 come” Rebecca Solnitt.\nWHO\nArtists Include: Jai Redman / Fi Hornby / 
 Karen Green / Jason Green / Reuben Lawless / Gavin Parry /\nTBC: Mid Penni
 ne Arts / The Caravan Gallery / Zara Saghir / Sophie Gibson /\nWHEN\n\n\n
  	Exhibition Launch: Saturday 17 May\, 6.00-8.00pm\, no need to book just 
 turn up\n 	Dates: Saturday 17 May – Sunday 15 June 2025\n 	Opening times
 : Thursday\, Friday\, Saturday\, 12.00-4.00pm\n 	Free entry\n\n
ATTACH;FMTTYPE=image/jpeg:https://burnleywordsfestival.co.uk/wp-content/up
 loads/2025/04/eXHIBITION.jpg
CATEGORIES:Exhibition
LOCATION:OneTwoThree St James's Street\, OneTwoThree\, St Jame's Street\, B
 urnley\, BB11 1PP\, United Kingdom
X-APPLE-STRUCTURED-LOCATION;VALUE=URI;X-ADDRESS=OneTwoThree\, St Jame's Str
 eet\, Burnley\, BB11 1PP\, United Kingdom;X-APPLE-RADIUS=100;X-TITLE=OneTw
 oThree St James's Street:geo:0,0
END:VEVENT
BEGIN:VTIMEZONE
TZID:Europe/London
X-LIC-LOCATION:Europe/London
BEGIN:DAYLIGHT
DTSTART:20250330T020000
TZOFFSETFROM:+0000
TZOFFSETTO:+0100
TZNAME:BST
END:DAYLIGHT
END:VTIMEZONE
END:VCALENDAR