BEGIN:VCALENDAR
VERSION:2.0
PRODID:-//wp-events-plugin.com//6.6.4.4//EN
BEGIN:VEVENT
UID:33@burnleywordsfestival.co.uk
DTSTART;TZID=Europe/London;VALUE=DATE:20230625
DTEND;TZID=Europe/London;VALUE=DATE:20230626
DTSTAMP:20230625T080320Z
URL:https://burnleywordsfestival.co.uk/events/mango-kahani-with-hina-the-s
 toryteller-at-11am-1pm-3pm/
SUMMARY:Mango Kahani with Hina the Storyteller at 11.30am\, 1pm & 2.30pm
DESCRIPTION:Part of the Storytelling Festival at Burnley Mechanics\, perfor
 mance times are:\n\n 	11.30am\n 	1 pm\n 	2.30 pm\n\nA brand-new show by Hi
 na the storyteller which is... all about Mangoes!\n\nThis fabulous interac
 tive storytelling show tells the tale of a vibrant city through the celebr
 ation of mangoes!\n\nMango Kahani will transport you across the sea to a l
 and where the juicy mangoes grow. Could you think of anything better on a 
 hot sunny day than a ripe juicy mango? Peeling that sweet orange juicy fle
 sh off the skin and juice dripping down your chin as you bite into it?\n\n
 Mango season is when families come together and the house smells of pickle
 s and chutneys. A story of a journey through cultures and lands. A beautif
 ul story with a surprise at the end!!\n\n
ATTACH;FMTTYPE=image/jpeg:https://burnleywordsfestival.co.uk/wp-content/up
 loads/2023/05/Mango-Kahani-Title-scaled.jpg
CATEGORIES:Children's Event
LOCATION:Burnley Mechanics - Front Room\, Burnley Mechanics\, Manchester Ro
 ad\, Burnley\, BB111BH\, United Kingdom
X-APPLE-STRUCTURED-LOCATION;VALUE=URI;X-ADDRESS=Burnley Mechanics\, Manches
 ter Road\, Burnley\, BB111BH\, United Kingdom;X-APPLE-RADIUS=100;X-TITLE=B
 urnley Mechanics - Front Room:geo:0,0
END:VEVENT
BEGIN:VTIMEZONE
TZID:Europe/London
X-LIC-LOCATION:Europe/London
BEGIN:DAYLIGHT
DTSTART:20230326T020000
TZOFFSETFROM:+0000
TZOFFSETTO:+0100
TZNAME:BST
END:DAYLIGHT
END:VTIMEZONE
END:VCALENDAR