BEGIN:VCALENDAR
VERSION:2.0
PRODID:-//wp-events-plugin.com//6.6.4.4//EN
BEGIN:VEVENT
UID:105@burnleywordsfestival.co.uk
DTSTART;TZID=Europe/London:20250517T140000
DTEND;TZID=Europe/London:20250517T140000
DTSTAMP:20250425T134243Z
URL:https://burnleywordsfestival.co.uk/events/reflecting-the-world-we-live
 -in-with-author-reshma-ruia/
SUMMARY:Reflecting The World We Live In With Author Reshma Ruia
DESCRIPTION:We are all made up of stories. Some we have lived through\, som
 e we dream about\, some are pure flights of imagination.\nIn this creative
  writing workshop you will have a chance to set these stories free.\n\nWe 
 will be demystifying the process of writing a poem or a short piece of fla
 sh fiction and letting our ideas flow. Writing can be a form of therapy\, 
 comfort\, anger and clarity. Instead of bottling up all those emotions ins
 ide of you\, you are releasing them onto paper. And that can only be a goo
 d thing.\n\nYou will get plenty of time to write. Along the way Reshma wil
 l give you tips on what to look out for\, how to improve.\n\nThis event is
  Pay What You Decide on the day\, but has a very limited capacity so we re
 commend booking your free ticket in advance here: https://www.ticketsource
 .co.uk/burnley-words/t-krgnngx\n\nAbout Reshma Ruia\nReshma has written tw
 o novels\, Something Black in the Lentil Soup\, and Still Lives\, winner 
 of the 2023 Diverse Book Readers’ Choice Award and longlisted for the 20
 23 Peoples Book Award.  She has also published a poetry collection\, A Di
 nner Party in the Home Counties\, winner of the 2019 Word Masala Award and
  a short story collection\, Mrs Pinto Drives to Happiness\, shortlisted f
 or the 2022 Eastern Eye ACTA Award.\n\nHer work has appeared in anthologie
 s and journals both national and international\, and commissioned by the B
 BC\, University of Cumbria and Manchester Literature Festival. She is the 
 co-founder of The Whole Kahani – a writers’ collective of British Sout
 h Asian writers and is a trustee on the Board of Manchester City of Litera
 ture.\nWebsite: www.reshmaruia.com\nStill Lives:https://renardpress.com/b
 ooks/still-lives/\nMrs Pinto Drives to Happiness: https://www.dahliapubli
 shing.co.uk/product/mrs-pinto-drives-to-happiness
ATTACH;FMTTYPE=image/jpeg:https://burnleywordsfestival.co.uk/wp-content/up
 loads/2025/04/RESHMA-RUIA-PROFILE-PIC-e1745588496958.jpg
CATEGORIES:Author Talk,Workshop,Writing
LOCATION:The Writers Room - Burnley Mechanics Theatre\, Burnley Mechanics\,
  Burnley\, BB11 1BH\, United Kingdom
X-APPLE-STRUCTURED-LOCATION;VALUE=URI;X-ADDRESS=Burnley Mechanics\, Burnley
 \, BB11 1BH\, United Kingdom;X-APPLE-RADIUS=100;X-TITLE=The Writers Room -
  Burnley Mechanics Theatre:geo:0,0
END:VEVENT
BEGIN:VTIMEZONE
TZID:Europe/London
X-LIC-LOCATION:Europe/London
BEGIN:DAYLIGHT
DTSTART:20250330T020000
TZOFFSETFROM:+0000
TZOFFSETTO:+0100
TZNAME:BST
END:DAYLIGHT
END:VTIMEZONE
END:VCALENDAR